BEGIN:VCALENDAR
VERSION:2.0
PRODID:-//Squarespace Inc/Squarespace 6//v6//EN
BEGIN:VEVENT
UID:5f57aa36d669b969d5e449c7@squarespace.com
DTSTAMP:20200908T162011Z
DTSTART:20200925T210000Z
DTEND:20200925T225500Z
SUMMARY:Meet the Candidates for Tennessee
END:VEVENT
END:VCALENDAR
