BEGIN:VCALENDAR
VERSION:2.0
PRODID:-//Squarespace Inc/Squarespace 6//v6//EN
BEGIN:VEVENT
UID:5eaf782bcac3d44ef3f39855@squarespace.com
DTSTAMP:20200504T021027Z
DTSTART:20200507T230000Z
DTEND:20200508T010000Z
SUMMARY:Blair at First Congressional District Democratic Congressional Deba
 te
END:VEVENT
END:VCALENDAR
