BEGIN:VCALENDAR
VERSION:2.0
PRODID:-//Squarespace Inc/Squarespace 6//v6//EN
BEGIN:VEVENT
UID:5e6ae5de19bb1f4bdbc12f0c@squarespace.com
DTSTAMP:20200414T185152Z
DTSTART:20200414T223000Z
DTEND:20200415T000000Z
SUMMARY:Blair at Hamblen County Democratic Party Meeting
END:VEVENT
END:VCALENDAR
