BEGIN:VCALENDAR
VERSION:2.0
PRODID:-//Squarespace Inc/Squarespace 6//v6//EN
BEGIN:VEVENT
UID:5e6ae6a119bb1f4bdbc149e2@squarespace.com
DTSTAMP:20200314T190426Z
DTSTART:20200409T220000Z
DTEND:20200409T233000Z
SUMMARY:Blair at Hawkins County Democratic Party Meeting
END:VEVENT
END:VCALENDAR
