BEGIN:VCALENDAR
VERSION:2.0
PRODID:-//Squarespace Inc/Squarespace 6//v6//EN
BEGIN:VEVENT
UID:5ec34f95c60cd066b72057b8@squarespace.com
DTSTAMP:20200519T031826Z
DTSTART:20200519T230000Z
DTEND:20200520T010000Z
SUMMARY:Blair at Humanity First Movement Southeast Social
END:VEVENT
END:VCALENDAR
