BEGIN:VCALENDAR
VERSION:2.0
PRODID:-//Squarespace Inc/Squarespace 6//v6//EN
BEGIN:VEVENT
UID:5eac22da0d051f731c13528e@squarespace.com
DTSTAMP:20200501T133307Z
DTSTART:20200502T000000Z
DTEND:20200502T013000Z
SUMMARY:Blair at Informed Independent Town Hall
END:VEVENT
END:VCALENDAR
