BEGIN:VCALENDAR
VERSION:2.0
PRODID:-//Squarespace Inc/Squarespace 6//v6//EN
BEGIN:VEVENT
UID:5f0963206a01a6439a188c0a@squarespace.com
DTSTAMP:20200719T180924Z
DTSTART:20200716T230000Z
DTEND:20200717T000000Z
SUMMARY:Blair at Virtual Town Hall IT’S YOUR VOTE
END:VEVENT
END:VCALENDAR
