BEGIN:VCALENDAR
VERSION:2.0
PRODID:-//Squarespace Inc/Squarespace 6//v6//EN
BEGIN:VEVENT
UID:5e6ae717810aeb7725069262@squarespace.com
DTSTAMP:20200314T190543Z
DTSTART:20200503T210000Z
DTEND:20200503T230000Z
SUMMARY:Blair at League of Women Voters in Johnson City
END:VEVENT
END:VCALENDAR
