BEGIN:VCALENDAR
VERSION:2.0
PRODID:-//Squarespace Inc/Squarespace 6//v6//EN
BEGIN:VEVENT
UID:5f095a1df82898308f66ef4c@squarespace.com
DTSTAMP:20200711T062838Z
DTSTART:20200713T230000Z
DTEND:20200714T003000Z
SUMMARY:Blair at Morristown Area Chamber of Commerce Candidate Forum
END:VEVENT
END:VCALENDAR
