BEGIN:VCALENDAR
VERSION:2.0
PRODID:-//Squarespace Inc/Squarespace 6//v6//EN
BEGIN:VEVENT
UID:5eb5bfb38fb5881a921d8c90@squarespace.com
DTSTAMP:20200508T202515Z
DTSTART:20200510T200000Z
DTEND:20200510T220000Z
SUMMARY:Blair at National Town Hall on Environmental Justice
END:VEVENT
END:VCALENDAR
