BEGIN:VCALENDAR
VERSION:2.0
PRODID:-//Squarespace Inc/Squarespace 6//v6//EN
BEGIN:VEVENT
UID:5e8611a2cb15c35ea3ac65fb@squarespace.com
DTSTAMP:20200402T163522Z
DTSTART:20200416T221500Z
DTEND:20200417T000000Z
SUMMARY:Blair at Our Nation First Congressional District Virtual Town Hall
GEO:37.332854;-121.894908
LOCATION:Zoom
END:VEVENT
END:VCALENDAR
