BEGIN:VCALENDAR
VERSION:2.0
PRODID:-//Squarespace Inc/Squarespace 6//v6//EN
BEGIN:VEVENT
UID:5e95fe055c98dd67e4d53b00@squarespace.com
DTSTAMP:20200414T185422Z
DTSTART:20200711T180000Z
DTEND:20200711T210000Z
SUMMARY:Blair at Sevier County Democratic Candidate Forum  
GEO:35.86602;-83.557946
LOCATION:Sevierville Civic Center\, 120 Gary Wade Blvd\, Sevierville\, TN 3
 7862
END:VEVENT
END:VCALENDAR
