BEGIN:VCALENDAR
VERSION:2.0
PRODID:-//Squarespace Inc/Squarespace 6//v6//EN
BEGIN:VEVENT
UID:5e6ae1c5ede584624b2c1c3c@squarespace.com
DTSTAMP:20200414T154340Z
DTSTART:20200422T230000Z
DTEND:20200423T003000Z
SUMMARY:Blair at Sullivan County Democratic Party Meeting
GEO:36.486685;-82.40564
LOCATION:Northeast State Community College\, 2425 Highway 75\, Blountville\
 , TN 37617
END:VEVENT
END:VCALENDAR
