BEGIN:VCALENDAR
VERSION:2.0
PRODID:-//Squarespace Inc/Squarespace 6//v6//EN
BEGIN:VEVENT
UID:5ec3502992f11e07656e0608@squarespace.com
DTSTAMP:20200519T032108Z
DTSTART:20200521T230000Z
DTEND:20200522T003000Z
SUMMARY:Blair at Sullivan County Democratic party
END:VEVENT
END:VCALENDAR
