BEGIN:VCALENDAR
VERSION:2.0
PRODID:-//Squarespace Inc/Squarespace 6//v6//EN
BEGIN:VEVENT
UID:5ebeecec7160cc32876657e2@squarespace.com
DTSTAMP:20200515T193849Z
DTSTART:20200516T010000Z
DTEND:20200516T023000Z
SUMMARY:Blair at the Democracy Discussions Virtual Town Hall\, Climate Chan
 ge Edition!
END:VEVENT
END:VCALENDAR
