BEGIN:VCALENDAR
VERSION:2.0
PRODID:-//Squarespace Inc/Squarespace 6//v6//EN
BEGIN:VEVENT
UID:5e6e9d586f379e1858bb5b21@squarespace.com
DTSTAMP:20200315T213335Z
DTSTART:20200324T000000Z
DTEND:20200324T010000Z
SUMMARY:Blair hosting exclusive "Yang Gang" online Virtual Town Hall Fundra
 iser
END:VEVENT
END:VCALENDAR
