BEGIN:VCALENDAR
VERSION:2.0
PRODID:-//Squarespace Inc/Squarespace 6//v6//EN
BEGIN:VEVENT
UID:5e86891c79449e7020b8d542@squarespace.com
DTSTAMP:20200403T005516Z
DTSTART:20200406T000000Z
DTEND:20200406T010000Z
SUMMARY:Blair @ Humanity First Party Meeting
GEO:40.720756;-74.000761
LOCATION:Online
END:VEVENT
END:VCALENDAR
