BEGIN:VCALENDAR
VERSION:2.0
PRODID:-//Squarespace Inc/Squarespace 6//v6//EN
BEGIN:VEVENT
UID:5ec350d8332af56b6e708cd4@squarespace.com
DTSTAMP:20200519T032637Z
DTSTART:20200519T150000Z
DTEND:20200519T160000Z
SUMMARY:Blair on Andrew Davis's Hebrewsaurusrex Podcast 
END:VEVENT
END:VCALENDAR
