BEGIN:VCALENDAR
VERSION:2.0
PRODID:-//Squarespace Inc/Squarespace 6//v6//EN
BEGIN:VEVENT
UID:5eb9740cd4d3cc589815c094@squarespace.com
DTSTAMP:20200511T155143Z
DTSTART:20200510T160000Z
DTEND:20200510T170000Z
SUMMARY:Blair on Hill of Roses Podcast
END:VEVENT
END:VCALENDAR
