BEGIN:VCALENDAR
VERSION:2.0
PRODID:-//Squarespace Inc/Squarespace 6//v6//EN
BEGIN:VEVENT
UID:5e6ae113c92147436c09d3be@squarespace.com
DTSTAMP:20200316T022129Z
DTSTART:20200318T220000Z
DTEND:20200318T230000Z
SUMMARY:Blair Streaming live on the Zach &amp\; Matt Show
END:VEVENT
END:VCALENDAR
