BEGIN:VCALENDAR
VERSION:2.0
PRODID:-//Squarespace Inc/Squarespace 6//v6//EN
BEGIN:VEVENT
UID:5e6d2772fd82d42cb249311b@squarespace.com
DTSTAMP:20200315T123106Z
DTSTART:20200426T180000Z
DTEND:20200426T190000Z
SUMMARY:Blair streaming live with Nerds for Humanity
END:VEVENT
END:VCALENDAR
