BEGIN:VCALENDAR
VERSION:2.0
PRODID:-//Squarespace Inc/Squarespace 6//v6//EN
BEGIN:VEVENT
UID:5e6d25de50eead5473b1e8bf@squarespace.com
DTSTAMP:20200317T021901Z
DTSTART:20200317T223000Z
DTEND:20200317T233000Z
SUMMARY:Blair streaming live with Paget Kagy
END:VEVENT
END:VCALENDAR
