BEGIN:VCALENDAR
VERSION:2.0
PRODID:-//Squarespace Inc/Squarespace 6//v6//EN
BEGIN:VEVENT
UID:5f79e7eff54a4032051bf783@squarespace.com
DTSTAMP:20201004T152320Z
DTSTART:20201011T180000Z
DTEND:20201011T220000Z
SUMMARY:Blair Walsingham’s Fall Festival
END:VEVENT
END:VCALENDAR
