BEGIN:VCALENDAR
VERSION:2.0
PRODID:-//Squarespace Inc/Squarespace 6//v6//EN
BEGIN:VEVENT
UID:5eb9750698232c36f504acf9@squarespace.com
DTSTAMP:20200511T160720Z
DTSTART:20200511T230000Z
DTEND:20200512T000000Z
SUMMARY:Blair with Mike Broihier on Chicken Bristle Live
END:VEVENT
END:VCALENDAR
