BEGIN:VCALENDAR
VERSION:2.0
PRODID:-//Squarespace Inc/Squarespace 6//v6//EN
BEGIN:VEVENT
UID:5e95d8571bd338729c9af1c4@squarespace.com
DTSTAMP:20200414T154908Z
DTSTART:20200415T110000Z
DTEND:20200415T120000Z
SUMMARY:Coffee Time with Blair
END:VEVENT
END:VCALENDAR
