BEGIN:VCALENDAR
VERSION:2.0
PRODID:-//Squarespace Inc/Squarespace 6//v6//EN
BEGIN:VEVENT
UID:5f234b4a4649d8669b7ac531@squarespace.com
DTSTAMP:20200730T224229Z
DTSTART:20200730T231500Z
DTEND:20200731T021000Z
SUMMARY:Bipartisan Congressional Debate
END:VEVENT
END:VCALENDAR
