BEGIN:VCALENDAR
VERSION:2.0
PRODID:-//Squarespace Inc/Squarespace 6//v6//EN
BEGIN:VEVENT
UID:5f2987622cd2a75b2358c9a1@squarespace.com
DTSTAMP:20200804T160915Z
DTSTART:20200806T233000Z
DTEND:20200807T004500Z
SUMMARY:Election Night Watch Party
END:VEVENT
END:VCALENDAR
