BEGIN:VCALENDAR
VERSION:2.0
PRODID:-//Squarespace Inc/Squarespace 6//v6//EN
BEGIN:VEVENT
UID:5e59eef0d344ff762e12ccd5@squarespace.com
DTSTAMP:20200302T234508Z
DTSTART:20200303T233000Z
DTEND:20200304T013000Z
SUMMARY:Blair's Campaign Kickoff!
END:VEVENT
END:VCALENDAR
