BEGIN:VCALENDAR
VERSION:2.0
PRODID:-//Squarespace Inc/Squarespace 6//v6//EN
BEGIN:VEVENT
UID:5e59eef0d344ff762e12ccd1@squarespace.com
DTSTAMP:20200229T053005Z
DTSTART:20200304T150000Z
DTEND:20200304T170000Z
SUMMARY:Rogersville Fire Dept "sapling wrapping" with Sierra Club
END:VEVENT
END:VCALENDAR
