BEGIN:VCALENDAR
VERSION:2.0
PRODID:-//Squarespace Inc/Squarespace 6//v6//EN
BEGIN:VEVENT
UID:5f2f1d980ab7286b7011486b@squarespace.com
DTSTAMP:20200809T184924Z
DTSTART:20200811T233000Z
DTEND:20200812T004000Z
SUMMARY:Financial Freedom Week: Andrew Yang & Donna Imam
END:VEVENT
END:VCALENDAR
