BEGIN:VCALENDAR
VERSION:2.0
PRODID:-//Squarespace Inc/Squarespace 6//v6//EN
BEGIN:VEVENT
UID:5f2f1d1117f1700098c35ce6@squarespace.com
DTSTAMP:20200809T184731Z
DTSTART:20200811T220000Z
DTEND:20200811T230000Z
SUMMARY:Financial Freedom Week: Dan Larson
END:VEVENT
END:VCALENDAR
