BEGIN:VCALENDAR
VERSION:2.0
PRODID:-//Squarespace Inc/Squarespace 6//v6//EN
BEGIN:VEVENT
UID:5f2f1f046a5ace51e4cd4354@squarespace.com
DTSTAMP:20200811T161244Z
DTSTART:20200813T220000Z
DTEND:20200813T230000Z
SUMMARY:Financial Freedom Week: Diane Pagen
END:VEVENT
END:VCALENDAR
