BEGIN:VCALENDAR
VERSION:2.0
PRODID:-//Squarespace Inc/Squarespace 6//v6//EN
BEGIN:VEVENT
UID:5f35a484a0b2fd5ba3229277@squarespace.com
DTSTAMP:20200813T204134Z
DTSTART:20200816T200000Z
DTEND:20200816T210500Z
SUMMARY:Financial Freedom Week Finale
END:VEVENT
END:VCALENDAR
