BEGIN:VCALENDAR
VERSION:2.0
PRODID:-//Squarespace Inc/Squarespace 6//v6//EN
BEGIN:VEVENT
UID:5f3046a84c60823daae7ffe8@squarespace.com
DTSTAMP:20200814T211016Z
DTSTART:20200815T200000Z
DTEND:20200815T211000Z
SUMMARY:Financial Freedom Week: Karl Widerquist
END:VEVENT
END:VCALENDAR
