BEGIN:VCALENDAR
VERSION:2.0
PRODID:-//Squarespace Inc/Squarespace 6//v6//EN
BEGIN:VEVENT
UID:5f2f1e56a13a6d7ea8eac3f4@squarespace.com
DTSTAMP:20200809T185113Z
DTSTART:20200813T000000Z
DTEND:20200813T010500Z
SUMMARY:Financial Freedom Week: Scott Santens
END:VEVENT
END:VCALENDAR
