BEGIN:VCALENDAR
VERSION:2.0
PRODID:-//Squarespace Inc/Squarespace 6//v6//EN
BEGIN:VEVENT
UID:5f2f1f79f5f70e0fb70947fe@squarespace.com
DTSTAMP:20200814T142204Z
DTSTART:20200814T160000Z
DTEND:20200814T170500Z
SUMMARY:Financial Freedom Week: Steven Shafarman
END:VEVENT
END:VCALENDAR
