BEGIN:VCALENDAR
VERSION:2.0
PRODID:-//Squarespace Inc/Squarespace 6//v6//EN
BEGIN:VEVENT
UID:5f2f1c2405889f0bcc585154@squarespace.com
DTSTAMP:20200809T184539Z
DTSTART:20200810T230000Z
DTEND:20200811T000000Z
SUMMARY:Financial Freedom Week: Trae Crowder
END:VEVENT
END:VCALENDAR
