BEGIN:VCALENDAR
VERSION:2.0
PRODID:-//Squarespace Inc/Squarespace 6//v6//EN
BEGIN:VEVENT
UID:5e6ae0766738445292da047e@squarespace.com
DTSTAMP:20200314T190740Z
DTSTART:20200312T220000Z
DTEND:20200313T000000Z
SUMMARY:Hawkins Co Democrats Soup\, Chili fundraiser
END:VEVENT
END:VCALENDAR
