BEGIN:VCALENDAR
VERSION:2.0
PRODID:-//Squarespace Inc/Squarespace 6//v6//EN
BEGIN:VEVENT
UID:5f57be7163a0d42fdc2ec55d@squarespace.com
DTSTAMP:20200912T024444Z
DTSTART:20200912T180000Z
DTEND:20200912T202000Z
SUMMARY:Nationwide It's About Time Cannabis Rally Tri-Cities
END:VEVENT
END:VCALENDAR
