BEGIN:VCALENDAR
VERSION:2.0
PRODID:-//Squarespace Inc/Squarespace 6//v6//EN
BEGIN:VEVENT
UID:5e6ae75419bb1f4bdbc16530@squarespace.com
DTSTAMP:20200316T030153Z
DTSTART:20200507T213000Z
DTEND:20200507T230000Z
SUMMARY:Blair at Johnson County Democratic Party Meeting
END:VEVENT
END:VCALENDAR
