BEGIN:VCALENDAR
VERSION:2.0
PRODID:-//Squarespace Inc/Squarespace 6//v6//EN
BEGIN:VEVENT
UID:5f354d1428560b69e22273be@squarespace.com
DTSTAMP:20200814T141315Z
DTSTART:20200815T230000Z
DTEND:20200816T000000Z
SUMMARY:Financial Freedom Week: Kyle Christensen
END:VEVENT
END:VCALENDAR
