BEGIN:VCALENDAR
VERSION:2.0
PRODID:-//Squarespace Inc/Squarespace 6//v6//EN
BEGIN:VEVENT
UID:5f7cdfd00b90192feee43ee1@squarespace.com
DTSTAMP:20201018T213101Z
DTSTART:20201101T193000Z
DTEND:20201101T203000Z
SUMMARY:Meet Blair at the JC Women's Suffrage Mural Unveiling
END:VEVENT
END:VCALENDAR
