BEGIN:VCALENDAR
VERSION:2.0
PRODID:-//Squarespace Inc/Squarespace 6//v6//EN
BEGIN:VEVENT
UID:5f7634315465b01d70184a6f@squarespace.com
DTSTAMP:20201001T195731Z
DTSTART:20201003T220000Z
DTEND:20201003T230000Z
SUMMARY:Meet Blair in Downtown Kingsport
END:VEVENT
END:VCALENDAR
