BEGIN:VCALENDAR
VERSION:2.0
PRODID:-//Squarespace Inc/Squarespace 6//v6//EN
BEGIN:VEVENT
UID:5f75e00b2fbf5a33638e6a27@squarespace.com
DTSTAMP:20201001T140005Z
DTSTART:20201003T200000Z
DTEND:20201003T210000Z
SUMMARY:Meet Blair in Kingsport's Borden Park
END:VEVENT
END:VCALENDAR
