BEGIN:VCALENDAR
VERSION:2.0
PRODID:-//Squarespace Inc/Squarespace 6//v6//EN
BEGIN:VEVENT
UID:5f7a6635ce10ea2a485c9bb8@squarespace.com
DTSTAMP:20201005T002027Z
DTSTART:20201009T220000Z
DTEND:20201009T233000Z
SUMMARY:Morristown Meet & Greet
END:VEVENT
END:VCALENDAR
