BEGIN:VCALENDAR
VERSION:2.0
PRODID:-//Squarespace Inc/Squarespace 6//v6//EN
BEGIN:VEVENT
UID:5f3d9d6e2fa2e06656c25e90@squarespace.com
DTSTAMP:20200819T215905Z
DTSTART:20200822T233000Z
DTEND:20200823T010000Z
SUMMARY:No Dem Left Behind Gala
END:VEVENT
END:VCALENDAR
