BEGIN:VCALENDAR
VERSION:2.0
PRODID:-//Squarespace Inc/Squarespace 6//v6//EN
BEGIN:VEVENT
UID:5f90a6c2b3643436a2ea234b@squarespace.com
DTSTAMP:20201021T212719Z
DTSTART:20201021T213000Z
DTEND:20201101T033000Z
SUMMARY:Silent Art Auction Fundraiser
END:VEVENT
END:VCALENDAR
