BEGIN:VCALENDAR
VERSION:2.0
PRODID:-//Squarespace Inc/Squarespace 6//v6//EN
BEGIN:VEVENT
UID:5f79e42f08bd1c508b3a7a75@squarespace.com
DTSTAMP:20201004T151129Z
DTSTART:20201010T140000Z
DTEND:20201010T160000Z
SUMMARY:Shady Valley Cranberry Festival
END:VEVENT
END:VCALENDAR
