BEGIN:VCALENDAR
VERSION:2.0
PRODID:-//Squarespace Inc/Squarespace 6//v6//EN
BEGIN:VEVENT
UID:5f8333147761ab2128024b7a@squarespace.com
DTSTAMP:20201011T163407Z
DTSTART:20201013T230000Z
DTEND:20201014T010000Z
SUMMARY:Sierra Club TN On the Rise Event
END:VEVENT
END:VCALENDAR
