BEGIN:VCALENDAR
VERSION:2.0
PRODID:-//Squarespace Inc/Squarespace 6//v6//EN
BEGIN:VEVENT
UID:5f2347787a3fa424ab639940@squarespace.com
DTSTAMP:20200730T222550Z
DTSTART:20200803T203000Z
DTEND:20200803T210000Z
SUMMARY:Staying Home with Josh Fox
END:VEVENT
END:VCALENDAR
